BEGIN:VCALENDAR
VERSION:2.0
PRODID:-//DP Pro Event Calendar//3.2.6//EN
BEGIN:VEVENT
UID:e8048303-20e0-466c-afe6-a5e0a891ca70
DTSTART;TZID=UTC:20210930T203000
DTEND;TZID=UTC:20210930T213000
DTSTAMP:20200608T135232Z
SUMMARY:Western Ilona
DESCRIPTION:
LOCATION:
URL:
END:VEVENT
END:VCALENDAR