BEGIN:VCALENDAR
VERSION:2.0
PRODID:-//DP Pro Event Calendar//3.2.6//EN
BEGIN:VEVENT
UID:be2c6c0e-b137-4b59-aa27-d8c073034544
DTSTART;TZID=UTC:20211021T203000
DTEND;TZID=UTC:20211021T213000
DTSTAMP:20200608T135232Z
SUMMARY:Western Ilona
DESCRIPTION:
LOCATION:
URL:
END:VEVENT
END:VCALENDAR