BEGIN:VCALENDAR
VERSION:2.0
PRODID:-//DP Pro Event Calendar//3.2.6//EN
BEGIN:VEVENT
UID:13e32e03-318c-40ad-9c84-7911471971ae
DTSTART;TZID=UTC:20211111T203000
DTEND;TZID=UTC:20211111T213000
DTSTAMP:20200608T135232Z
SUMMARY:Western Ilona
DESCRIPTION:
LOCATION:
URL:
END:VEVENT
END:VCALENDAR