BEGIN:VCALENDAR
VERSION:2.0
PRODID:-//DP Pro Event Calendar//3.2.6//EN
BEGIN:VEVENT
UID:18d8fb2b-a79b-4427-a42a-5c9ac17b3d56
DTSTART;TZID=UTC:20211202T203000
DTEND;TZID=UTC:20211202T213000
DTSTAMP:20200608T135232Z
SUMMARY:Western Ilona
DESCRIPTION:
LOCATION:
URL:
END:VEVENT
END:VCALENDAR