BEGIN:VCALENDAR
VERSION:2.0
PRODID:-//DP Pro Event Calendar//3.2.6//EN
BEGIN:VEVENT
UID:8738c8ac-5b18-43c0-848e-7cd85dd7c43c
DTSTART;TZID=UTC:20211209T203000
DTEND;TZID=UTC:20211209T213000
DTSTAMP:20200608T135232Z
SUMMARY:Western Ilona
DESCRIPTION:
LOCATION:
URL:
END:VEVENT
END:VCALENDAR