BEGIN:VCALENDAR
VERSION:2.0
PRODID:-//DP Pro Event Calendar//3.2.6//EN
BEGIN:VEVENT
UID:952babe6-9add-44f1-9b0f-6f279ec4365d
DTSTART;TZID=UTC:20211223T203000
DTEND;TZID=UTC:20211223T213000
DTSTAMP:20200608T135232Z
SUMMARY:Western Ilona
DESCRIPTION:
LOCATION:
URL:
END:VEVENT
END:VCALENDAR