BEGIN:VCALENDAR
VERSION:2.0
PRODID:-//DP Pro Event Calendar//3.2.6//EN
BEGIN:VEVENT
UID:172f45f7-91c7-4255-8ee2-a08775a8fd44
DTSTART;TZID=UTC:20220113T203000
DTEND;TZID=UTC:20220113T213000
DTSTAMP:20200608T135232Z
SUMMARY:Western Ilona
DESCRIPTION:
LOCATION:
URL:
END:VEVENT
END:VCALENDAR