BEGIN:VCALENDAR
VERSION:2.0
PRODID:-//DP Pro Event Calendar//3.2.6//EN
BEGIN:VEVENT
UID:46f6b515-1268-462b-9af7-ad585fdc3d01
DTSTART;TZID=UTC:20220203T203000
DTEND;TZID=UTC:20220203T213000
DTSTAMP:20200608T135232Z
SUMMARY:Western Ilona
DESCRIPTION:
LOCATION:
URL:
END:VEVENT
END:VCALENDAR