BEGIN:VCALENDAR
VERSION:2.0
PRODID:-//DP Pro Event Calendar//3.2.6//EN
BEGIN:VEVENT
UID:2911595c-7ef3-4175-a35d-674defd47f45
DTSTART;TZID=UTC:20220310T203000
DTEND;TZID=UTC:20220310T213000
DTSTAMP:20200608T135232Z
SUMMARY:Western Ilona
DESCRIPTION:
LOCATION:
URL:
END:VEVENT
END:VCALENDAR