BEGIN:VCALENDAR
VERSION:2.0
PRODID:-//DP Pro Event Calendar//3.2.6//EN
BEGIN:VEVENT
UID:89ff9962-8127-4d75-9f03-f0cbb7b562fb
DTSTART;TZID=UTC:20220324T203000
DTEND;TZID=UTC:20220324T213000
DTSTAMP:20200608T135232Z
SUMMARY:Western Ilona
DESCRIPTION:
LOCATION:
URL:
END:VEVENT
END:VCALENDAR