BEGIN:VCALENDAR
VERSION:2.0
PRODID:-//DP Pro Event Calendar//3.2.6//EN
BEGIN:VEVENT
UID:78bd9339-8205-4c03-87fb-dbd4b7088f6e
DTSTART;TZID=UTC:20220409T130000
DTEND;TZID=UTC:20220409T140000
DTSTAMP:20200608T143116Z
SUMMARY:Dressuur Ilona
DESCRIPTION:1x per maand worden de dressuur lessen van Ilona op de Zaterdag overgenomen door Ilse.
LOCATION:
URL:
END:VEVENT
END:VCALENDAR