BEGIN:VCALENDAR
VERSION:2.0
PRODID:-//DP Pro Event Calendar//3.2.6//EN
BEGIN:VEVENT
UID:cd849b63-69bb-4e58-abfd-6f0b839c4375
DTSTART;TZID=UTC:20220512T203000
DTEND;TZID=UTC:20220512T213000
DTSTAMP:20200608T135232Z
SUMMARY:Western Ilona
DESCRIPTION:
LOCATION:
URL:
END:VEVENT
END:VCALENDAR