BEGIN:VCALENDAR
VERSION:2.0
PRODID:-//DP Pro Event Calendar//3.2.6//EN
BEGIN:VEVENT
UID:a667f795-2ac0-4e48-a2a9-aaf605f2abe9
DTSTART;TZID=UTC:20220526T203000
DTEND;TZID=UTC:20220526T213000
DTSTAMP:20200608T135232Z
SUMMARY:Western Ilona
DESCRIPTION:
LOCATION:
URL:
END:VEVENT
END:VCALENDAR