BEGIN:VCALENDAR
VERSION:2.0
PRODID:-//DP Pro Event Calendar//3.2.6//EN
BEGIN:VEVENT
UID:657e5ec2-d550-4e12-85b6-ee9f1d447dfa
DTSTART;TZID=UTC:20220602T203000
DTEND;TZID=UTC:20220602T213000
DTSTAMP:20200608T135232Z
SUMMARY:Western Ilona
DESCRIPTION:
LOCATION:
URL:
END:VEVENT
END:VCALENDAR