BEGIN:VCALENDAR
VERSION:2.0
PRODID:-//DP Pro Event Calendar//3.2.6//EN
BEGIN:VEVENT
UID:a40b8d9b-376c-4284-b481-78ee030b2ff4
DTSTART;TZID=UTC:20220623T203000
DTEND;TZID=UTC:20220623T213000
DTSTAMP:20200608T135232Z
SUMMARY:Western Ilona
DESCRIPTION:
LOCATION:
URL:
END:VEVENT
END:VCALENDAR