BEGIN:VCALENDAR
VERSION:2.0
PRODID:-//DP Pro Event Calendar//3.2.6//EN
BEGIN:VEVENT
UID:5b4aad1b-7639-4027-b46b-c78df2f1e2e4
DTSTART;TZID=UTC:20220630T203000
DTEND;TZID=UTC:20220630T213000
DTSTAMP:20200608T135232Z
SUMMARY:Western Ilona
DESCRIPTION:
LOCATION:
URL:
END:VEVENT
END:VCALENDAR