BEGIN:VCALENDAR
VERSION:2.0
PRODID:-//DP Pro Event Calendar//3.2.6//EN
BEGIN:VEVENT
UID:33c1df7c-8a3c-4763-9e6e-cbac9409d29d
DTSTART;TZID=UTC:20220714T203000
DTEND;TZID=UTC:20220714T213000
DTSTAMP:20200608T135232Z
SUMMARY:Western Ilona
DESCRIPTION:
LOCATION:
URL:
END:VEVENT
END:VCALENDAR