BEGIN:VCALENDAR
VERSION:2.0
PRODID:-//DP Pro Event Calendar//3.2.6//EN
BEGIN:VEVENT
UID:c7f78daa-4620-4589-a36d-c2783c0aa3ed
DTSTART;TZID=UTC:20220728T203000
DTEND;TZID=UTC:20220728T213000
DTSTAMP:20200608T135232Z
SUMMARY:Western Ilona
DESCRIPTION:
LOCATION:
URL:
END:VEVENT
END:VCALENDAR