BEGIN:VCALENDAR
VERSION:2.0
PRODID:-//DP Pro Event Calendar//3.2.6//EN
BEGIN:VEVENT
UID:ba3a8a20-4279-4b82-a2c5-3d746a499185
DTSTART;TZID=UTC:20220818T203000
DTEND;TZID=UTC:20220818T213000
DTSTAMP:20200608T135232Z
SUMMARY:Western Ilona
DESCRIPTION:
LOCATION:
URL:
END:VEVENT
END:VCALENDAR