BEGIN:VCALENDAR
VERSION:2.0
PRODID:-//DP Pro Event Calendar//3.2.6//EN
BEGIN:VEVENT
UID:e05ba16d-344b-45b6-826c-0f24931beb52
DTSTART;TZID=UTC:20220924T130000
DTEND;TZID=UTC:20220924T140000
DTSTAMP:20200608T143116Z
SUMMARY:Dressuur Ilona
DESCRIPTION:1x per maand worden de dressuur lessen van Ilona op de Zaterdag overgenomen door Ilse.
LOCATION:
URL:
END:VEVENT
END:VCALENDAR