BEGIN:VCALENDAR
VERSION:2.0
PRODID:-//DP Pro Event Calendar//3.2.6//EN
BEGIN:VEVENT
UID:8d976743-0dfd-4cbd-a8a1-8c6b660095f4
DTSTART;TZID=UTC:20220929T203000
DTEND;TZID=UTC:20220929T213000
DTSTAMP:20200608T135232Z
SUMMARY:Western Ilona
DESCRIPTION:
LOCATION:
URL:
END:VEVENT
END:VCALENDAR