BEGIN:VCALENDAR
VERSION:2.0
PRODID:-//DP Pro Event Calendar//3.2.6//EN
BEGIN:VEVENT
UID:0df7061b-3ed8-4f1d-894c-27dd20c33d1f
DTSTART;TZID=UTC:20221006T203000
DTEND;TZID=UTC:20221006T213000
DTSTAMP:20200608T135232Z
SUMMARY:Western Ilona
DESCRIPTION:
LOCATION:
URL:
END:VEVENT
END:VCALENDAR