BEGIN:VCALENDAR
VERSION:2.0
PRODID:-//DP Pro Event Calendar//3.2.6//EN
BEGIN:VEVENT
UID:69ae9938-cf87-412f-9433-a91a9f4648ae
DTSTART;TZID=UTC:20221020T203000
DTEND;TZID=UTC:20221020T213000
DTSTAMP:20200608T135232Z
SUMMARY:Western Ilona
DESCRIPTION:
LOCATION:
URL:
END:VEVENT
END:VCALENDAR