BEGIN:VCALENDAR
VERSION:2.0
PRODID:-//DP Pro Event Calendar//3.2.6//EN
BEGIN:VEVENT
UID:39c4dd06-7e4c-4d89-a20d-4c85eb6f43db
DTSTART;TZID=UTC:20221027T203000
DTEND;TZID=UTC:20221027T213000
DTSTAMP:20200608T135232Z
SUMMARY:Western Ilona
DESCRIPTION:
LOCATION:
URL:
END:VEVENT
END:VCALENDAR