BEGIN:VCALENDAR
VERSION:2.0
PRODID:-//DP Pro Event Calendar//3.2.6//EN
BEGIN:VEVENT
UID:642d9e31-5062-49b6-9565-ca793858a319
DTSTART;TZID=UTC:20221103T203000
DTEND;TZID=UTC:20221103T213000
DTSTAMP:20200608T135232Z
SUMMARY:Western Ilona
DESCRIPTION:
LOCATION:
URL:
END:VEVENT
END:VCALENDAR