BEGIN:VCALENDAR
VERSION:2.0
PRODID:-//DP Pro Event Calendar//3.2.6//EN
BEGIN:VEVENT
UID:7776f3dc-1eee-49e4-9152-c262872d7e2c
DTSTART;TZID=UTC:20221124T203000
DTEND;TZID=UTC:20221124T213000
DTSTAMP:20200608T135232Z
SUMMARY:Western Ilona
DESCRIPTION:
LOCATION:
URL:
END:VEVENT
END:VCALENDAR