BEGIN:VCALENDAR
VERSION:2.0
PRODID:-//DP Pro Event Calendar//3.2.6//EN
BEGIN:VEVENT
UID:20c0ff62-dc99-4d77-8446-cf8f30240b45
DTSTART;TZID=UTC:20221201T203000
DTEND;TZID=UTC:20221201T213000
DTSTAMP:20200608T135232Z
SUMMARY:Western Ilona
DESCRIPTION:
LOCATION:
URL:
END:VEVENT
END:VCALENDAR