BEGIN:VCALENDAR
VERSION:2.0
PRODID:-//DP Pro Event Calendar//3.2.6//EN
BEGIN:VEVENT
UID:cb104c46-4bdd-4632-b36c-7cebb3f0e9fc
DTSTART;TZID=UTC:20221208T183000
DTEND;TZID=UTC:20221208T193000
DTSTAMP:20200608T134922Z
SUMMARY:Dressuur Ilona
DESCRIPTION:
LOCATION:
URL:
END:VEVENT
END:VCALENDAR