BEGIN:VCALENDAR
VERSION:2.0
PRODID:-//DP Pro Event Calendar//3.2.6//EN
BEGIN:VEVENT
UID:6bddf10a-1e50-4448-828e-32244b7a880b
DTSTART;TZID=UTC:20221215T203000
DTEND;TZID=UTC:20221215T213000
DTSTAMP:20200608T135232Z
SUMMARY:Western Ilona
DESCRIPTION:
LOCATION:
URL:
END:VEVENT
END:VCALENDAR