BEGIN:VCALENDAR
VERSION:2.0
PRODID:-//DP Pro Event Calendar//3.2.6//EN
BEGIN:VEVENT
UID:9729072b-c5a9-4d78-a9aa-3aa52f9aeffe
DTSTART;TZID=UTC:20230105T203000
DTEND;TZID=UTC:20230105T213000
DTSTAMP:20200608T135232Z
SUMMARY:Western Ilona
DESCRIPTION:
LOCATION:
URL:
END:VEVENT
END:VCALENDAR