BEGIN:VCALENDAR
VERSION:2.0
PRODID:-//DP Pro Event Calendar//3.2.6//EN
BEGIN:VEVENT
UID:44d06712-ebd4-430f-8db9-81b8208b166e
DTSTART;TZID=UTC:20230112T203000
DTEND;TZID=UTC:20230112T213000
DTSTAMP:20200608T135232Z
SUMMARY:Western Ilona
DESCRIPTION:
LOCATION:
URL:
END:VEVENT
END:VCALENDAR