BEGIN:VCALENDAR
VERSION:2.0
PRODID:-//DP Pro Event Calendar//3.2.6//EN
BEGIN:VEVENT
UID:aff090d8-6e2f-4efe-a3ba-1c5a4aa58428
DTSTART;TZID=UTC:20230119T203000
DTEND;TZID=UTC:20230119T213000
DTSTAMP:20200608T135232Z
SUMMARY:Western Ilona
DESCRIPTION:
LOCATION:
URL:
END:VEVENT
END:VCALENDAR