BEGIN:VCALENDAR
VERSION:2.0
PRODID:-//DP Pro Event Calendar//3.2.6//EN
BEGIN:VEVENT
UID:d3c5f393-89d8-4af8-8131-1297b77f43d8
DTSTART;TZID=UTC:20230126T203000
DTEND;TZID=UTC:20230126T213000
DTSTAMP:20200608T135232Z
SUMMARY:Western Ilona
DESCRIPTION:
LOCATION:
URL:
END:VEVENT
END:VCALENDAR