BEGIN:VCALENDAR
VERSION:2.0
PRODID:-//DP Pro Event Calendar//3.2.6//EN
BEGIN:VEVENT
UID:9c0e1782-ec67-4516-a308-e5625e7687af
DTSTART;TZID=UTC:20230202T203000
DTEND;TZID=UTC:20230202T213000
DTSTAMP:20200608T135232Z
SUMMARY:Western Ilona
DESCRIPTION:
LOCATION:
URL:
END:VEVENT
END:VCALENDAR