BEGIN:VCALENDAR
VERSION:2.0
PRODID:-//DP Pro Event Calendar//3.2.6//EN
BEGIN:VEVENT
UID:d4643b31-a41e-45bd-8aa8-cf5dbb7beb56
DTSTART;TZID=UTC:20230216T203000
DTEND;TZID=UTC:20230216T213000
DTSTAMP:20200608T135232Z
SUMMARY:Western Ilona
DESCRIPTION:
LOCATION:
URL:
END:VEVENT
END:VCALENDAR