BEGIN:VCALENDAR
VERSION:2.0
PRODID:-//DP Pro Event Calendar//3.2.6//EN
BEGIN:VEVENT
UID:3f1f13d7-5ff8-4a92-8f0d-c567b247f40f
DTSTART;TZID=UTC:20230302T203000
DTEND;TZID=UTC:20230302T213000
DTSTAMP:20200608T135232Z
SUMMARY:Western Ilona
DESCRIPTION:
LOCATION:
URL:
END:VEVENT
END:VCALENDAR