BEGIN:VCALENDAR
VERSION:2.0
PRODID:-//DP Pro Event Calendar//3.2.6//EN
BEGIN:VEVENT
UID:de05644a-beb5-4372-bc2f-1e32165d481d
DTSTART;TZID=UTC:20230309T203000
DTEND;TZID=UTC:20230309T213000
DTSTAMP:20200608T135232Z
SUMMARY:Western Ilona
DESCRIPTION:
LOCATION:
URL:
END:VEVENT
END:VCALENDAR