BEGIN:VCALENDAR
VERSION:2.0
PRODID:-//DP Pro Event Calendar//3.2.6//EN
BEGIN:VEVENT
UID:c9acce5b-b9dc-4468-83c0-f62b809e1c17
DTSTART;TZID=UTC:20230316T203000
DTEND;TZID=UTC:20230316T213000
DTSTAMP:20200608T135232Z
SUMMARY:Western Ilona
DESCRIPTION:
LOCATION:
URL:
END:VEVENT
END:VCALENDAR