BEGIN:VCALENDAR
VERSION:2.0
PRODID:-//DP Pro Event Calendar//3.2.6//EN
BEGIN:VEVENT
UID:0df8ea04-08fc-4090-adb7-3b7b58162541
DTSTART;TZID=UTC:20230323T203000
DTEND;TZID=UTC:20230323T213000
DTSTAMP:20200608T135232Z
SUMMARY:Western Ilona
DESCRIPTION:
LOCATION:
URL:
END:VEVENT
END:VCALENDAR