BEGIN:VCALENDAR
VERSION:2.0
PRODID:-//DP Pro Event Calendar//3.2.6//EN
BEGIN:VEVENT
UID:7fa5c3d1-6fc6-411a-816b-9534822a5302
DTSTART;TZID=UTC:20230413T203000
DTEND;TZID=UTC:20230413T213000
DTSTAMP:20200608T135232Z
SUMMARY:Western Ilona
DESCRIPTION:
LOCATION:
URL:
END:VEVENT
END:VCALENDAR