BEGIN:VCALENDAR
VERSION:2.0
PRODID:-//DP Pro Event Calendar//3.2.6//EN
BEGIN:VEVENT
UID:54bb6c50-9cc9-441a-a0d7-a3672f6effca
DTSTART;TZID=UTC:20230420T203000
DTEND;TZID=UTC:20230420T213000
DTSTAMP:20200608T135232Z
SUMMARY:Western Ilona
DESCRIPTION:
LOCATION:
URL:
END:VEVENT
END:VCALENDAR