BEGIN:VCALENDAR
VERSION:2.0
PRODID:-//DP Pro Event Calendar//3.2.6//EN
BEGIN:VEVENT
UID:acc509ad-b9ff-472e-8a6e-c31f6c05c3ba
DTSTART;TZID=UTC:20230427T203000
DTEND;TZID=UTC:20230427T213000
DTSTAMP:20200608T135232Z
SUMMARY:Western Ilona
DESCRIPTION:
LOCATION:
URL:
END:VEVENT
END:VCALENDAR