BEGIN:VCALENDAR
VERSION:2.0
PRODID:-//DP Pro Event Calendar//3.2.6//EN
BEGIN:VEVENT
UID:cc023790-9e2f-47c1-8840-4de45c49a086
DTSTART;TZID=UTC:20230511T203000
DTEND;TZID=UTC:20230511T213000
DTSTAMP:20200608T135232Z
SUMMARY:Western Ilona
DESCRIPTION:
LOCATION:
URL:
END:VEVENT
END:VCALENDAR