BEGIN:VCALENDAR
VERSION:2.0
PRODID:-//DP Pro Event Calendar//3.2.6//EN
BEGIN:VEVENT
UID:09c88ef1-df7b-4151-8f40-9a58a64fbe38
DTSTART;TZID=UTC:20230525T203000
DTEND;TZID=UTC:20230525T213000
DTSTAMP:20200608T135232Z
SUMMARY:Western Ilona
DESCRIPTION:
LOCATION:
URL:
END:VEVENT
END:VCALENDAR