BEGIN:VCALENDAR
VERSION:2.0
PRODID:-//DP Pro Event Calendar//3.2.6//EN
BEGIN:VEVENT
UID:66d0846b-a55b-4bba-a3d8-eedb490ff7da
DTSTART;TZID=UTC:20230601T203000
DTEND;TZID=UTC:20230601T213000
DTSTAMP:20200608T135232Z
SUMMARY:Western Ilona
DESCRIPTION:
LOCATION:
URL:
END:VEVENT
END:VCALENDAR