BEGIN:VCALENDAR
VERSION:2.0
PRODID:-//DP Pro Event Calendar//3.2.6//EN
BEGIN:VEVENT
UID:9aa1f648-6f8c-4795-9ce2-a8643c76b9ec
DTSTART;TZID=UTC:20230617T130000
DTEND;TZID=UTC:20230617T140000
DTSTAMP:20200608T143116Z
SUMMARY:Dressuur Ilona
DESCRIPTION:1x per maand worden de dressuur lessen van Ilona op de Zaterdag overgenomen door Ilse.
LOCATION:
URL:
END:VEVENT
END:VCALENDAR