BEGIN:VCALENDAR
VERSION:2.0
PRODID:-//DP Pro Event Calendar//3.2.6//EN
BEGIN:VEVENT
UID:d81d2ca5-303e-47d7-b347-39a83c593b53
DTSTART;TZID=UTC:20230629T203000
DTEND;TZID=UTC:20230629T213000
DTSTAMP:20200608T135232Z
SUMMARY:Western Ilona
DESCRIPTION:
LOCATION:
URL:
END:VEVENT
END:VCALENDAR