BEGIN:VCALENDAR
VERSION:2.0
PRODID:-//DP Pro Event Calendar//3.2.6//EN
BEGIN:VEVENT
UID:3f4890bf-1763-4e80-a9f6-961261d72752
DTSTART;TZID=UTC:20230706T203000
DTEND;TZID=UTC:20230706T213000
DTSTAMP:20200608T135232Z
SUMMARY:Western Ilona
DESCRIPTION:
LOCATION:
URL:
END:VEVENT
END:VCALENDAR