BEGIN:VCALENDAR
VERSION:2.0
PRODID:-//DP Pro Event Calendar//3.2.6//EN
BEGIN:VEVENT
UID:7a9e366b-1627-4dd9-9da7-fe11cc3bcb90
DTSTART;TZID=UTC:20230713T203000
DTEND;TZID=UTC:20230713T213000
DTSTAMP:20200608T135232Z
SUMMARY:Western Ilona
DESCRIPTION:
LOCATION:
URL:
END:VEVENT
END:VCALENDAR