BEGIN:VCALENDAR
VERSION:2.0
PRODID:-//DP Pro Event Calendar//3.2.6//EN
BEGIN:VEVENT
UID:f61be202-f866-4590-958e-cd24b583d18c
DTSTART;TZID=UTC:20230720T203000
DTEND;TZID=UTC:20230720T213000
DTSTAMP:20200608T135232Z
SUMMARY:Western Ilona
DESCRIPTION:
LOCATION:
URL:
END:VEVENT
END:VCALENDAR